BEGIN:VCALENDAR
VERSION:2.0
PRODID:-//Tukios.com/
BEGIN:VEVENT
UID:1e3ec630-3d7e-4a67-8473-c0334ca2fe89@www.colligancrematoryfuneralservices.com
DTSTAMP:20260421T191951Z
DTSTART:20260423T180000Z
DTEND:20260423T190000Z
SUMMARY:Funeral Service
DESCRIPTION:
URL:https://www.colligancrematoryfuneralservices.com/obituaries/james-buteaux
LOCATION:Colligan Crematory & Funeral Services 121 Park Center Dr  
	Broussard LA 70518
GEO:30.1612064;-91.9758826
END:VEVENT
END:VCALENDAR