BEGIN:VCALENDAR
VERSION:2.0
PRODID:-//Tukios.com/
BEGIN:VEVENT
UID:6f4f2351-ea89-4cb3-abd4-c0a780c83017@www.colligancrematoryfuneralservices.com
DTSTAMP:20260421T192344Z
DTSTART:20260423T160000Z
DTEND:20260423T180000Z
SUMMARY:Visitation
DESCRIPTION:
URL:https://www.colligancrematoryfuneralservices.com/obituaries/james-buteaux
LOCATION: 121 Park Center Dr  Broussard LA 70518
GEO:30.1612064;-91.9758826
END:VEVENT
END:VCALENDAR