BEGIN:VCALENDAR
VERSION:2.0
PRODID:-//Tukios.com/
BEGIN:VEVENT
UID:35ff52d1-a28b-4ff8-914a-4cae9c3e9f35@www.colligancrematoryfuneralservices.com
DTSTAMP:20260421T192601Z
DTSTART:20260423T193000Z
DTEND:20260423T203000Z
SUMMARY:Burial
DESCRIPTION:
URL:https://www.colligancrematoryfuneralservices.com/obituaries/james-buteaux
LOCATION:Holly Family Cemetery 2807 N. Curtis Lane  New Iberia  70560
GEO:29.9756048;-91.8446737
END:VEVENT
END:VCALENDAR