BEGIN:VCALENDAR
VERSION:2.0
PRODID:-//Tukios.com/
BEGIN:VEVENT
UID:930ffba7-3d63-438c-ab96-9350b156193a@www.colligancrematoryfuneralservices.com
DTSTAMP:20260420T190557Z
DTSTART:20260421T210000Z
DTEND:20260422T000000Z
SUMMARY:Funeral Service
DESCRIPTION:
URL:https://www.colligancrematoryfuneralservices.com/obituaries/julien-vincent
LOCATION: 121 Park Center Dr  Broussard LA 70518
GEO:30.1612064;-91.9758826
END:VEVENT
END:VCALENDAR